BEGIN:VCALENDAR
VERSION:2.0
PRODID:-//CiviCRM//NONSGML CiviEvent iCal//EN
X-WR-TIMEZONE:Europe/London
METHOD:PUBLISH
BEGIN:VTIMEZONE
TZID:Europe/London
BEGIN:DAYLIGHT
TZOFFSETFROM:+0100
TZOFFSETTO:+0100
TZNAME:BST
DTSTART:20260423T123000
END:DAYLIGHT
END:VTIMEZONE
BEGIN:VEVENT
UID:CiviCRM_EventID_310_ac53c670fd9b4ea756275438fd972eda@crm.weownit.org.uk
SUMMARY:We Own It weekly webinar
X-ALT-DESC;FMTTYPE=text/html:<!DOCTYPE HTML PUBLIC
  "-//W3C//DTD HTML 3.2//EN"><html><body><p>Grab a 
 sandwich and settle in for an online lunch with us
  on zoom\, to hear all about the action we're taki
 ng for public ownership this month and how you can
  be part of it.</p>\n \n <p><strong>What we'll be 
 doing</strong></p>\n \n <ul>\n 	<li>Introductions<
 /li>\n 	<li>Campaign updates</li>\n 	<li>Recommend
 ed reads and actions</li>\n 	<li>Q&A</li>\n 	<li>T
 o finish - solidarity song of the week!</li>\n </u
 l>\n \n <p><strong>How to join</strong></p>\n \n <
 p>Register and you'll receive a link in an email w
 hich will allow you to join the call!</p></body></
 html>
DESCRIPTION:Grab a sandwich and settle in for an online lunch 
 with us on zoom\, to hear all about the action we'
 re taking for public ownership this month and how 
 you can be part of it.\n \n \n \n What we'll be do
 ing\n \n \n \n \n 	Introductions\n 	Campaign updat
 es\n 	Recommended reads and actions\n 	Q&A\n 	To f
 inish - solidarity song of the week!\n \n \n How t
 o join\n \n \n \n Register and you'll receive a li
 nk in an email which will allow you to join the ca
 ll!\n \n 
CATEGORIES:Webinar
CALSCALE:GREGORIAN
DTSTAMP;TZID=Europe/London:20260423T123000
DTSTART;TZID=Europe/London:20260423T123000
DTEND;TZID=Europe/London:20260423T130000
URL:https://crm.weownit.org.uk/civicrm/event/info?reset=1&id=310
END:VEVENT
END:VCALENDAR
